BEGIN:VCALENDAR
VERSION:2.0
PRODID:SchoolNow
CALSCALE:GREGORIAN
BEGIN:VEVENT
UID:2479cc64-1f1a-11f1-b76a-0a58a9feac02
DTSTAMP:20260330T195547Z
SUMMARY:RPE Applications DUE
URL;VALUE=URI:https://www.uticaschools.org/departments/guidance-counseling-
 services/calendar/8915512/rpe-applications-due
DTSTART;VALUE=DATE:20260402
DTEND;VALUE=DATE:20260403
END:VEVENT
END:VCALENDAR
