BEGIN:VCALENDAR
VERSION:2.0
PRODID:SchoolNow
CALSCALE:GREGORIAN
BEGIN:VEVENT
UID:2479cb6a-1f1a-11f1-b125-0a58a9feac02
DTSTAMP:20260330T195547Z
SUMMARY:SAT School Day - JUNIORS
LOCATION:Aux Gym
URL;VALUE=URI:https://www.uticaschools.org/departments/guidance-counseling-
 services/calendar/8915511/sat-school-day-juniors
DTSTART;VALUE=DATE:20260325
DTEND;VALUE=DATE:20260326
END:VEVENT
END:VCALENDAR
